Workbook

Sheet 说明
C1: 欢迎使用剑三生活技能成本利润计算表 v2.2
H3: 作者：网一二-叶希音 | L3: Update.2016.07.05
B4: 本表格使用说明：
B6: ①请在【材料价格】中对应空白处，输入相关材料的单价，再在各个分页中输入交易行售价。相应的成本利润及比例会据公式自动计算，结果显示在对应的分栏中。
B8: ②推荐使用辅助工具：【采集拾取】、【查询器】、【交易行】等插件，以便于查询材料及物品价格。（表格查询快捷键为Ctrl+F）
B10: ③本表所列并非剑三所有的生活技能产出物品，均为经过筛选后，具备一定实用性或与成就相关的配方。
B12: 【要啥自己点下面的表！】

Sheet 材料价格
A1: 制药材料 | D1: 烹饪材料 | G1: 缝纫材料 | J1: 铸造材料 | M1: 副本材料 | P1: 特殊材料
A2: 名称 | B2: 空白处请自行填写 | D2: 名称 | E2: 空白处请自行填写 | G2: 名称 | H2: 空白处请自行填写 | J2: 名称 | K2: 空白处请自行填写 | M2: 名称 | N2: 空白处请自行填写 | P2: 名称 | Q2: 空白处请自行填写
B3: 单价(金) | E3: 单价(金) | H3: 单价(金) | K3: 单价(金) | N3: 单价(金) | Q3: 单价(金)
A4: 药罐 | B4: 0.0015 | D4: 藕 | E4: 0.16 | G4: 金丝线 | H4: 0.16 | J4: 火墨 | K4: 0.008 | M4: 蜀玉碎片 | P4: 谷帘泉
A5: 药囊 | B5: 0.0025 | D5: 桂花 | E5: 0.16 | G5: 百花线 | H5: 0.38 | J5: 木炭 | K5: 0.085 | M5: 蜀玉裂石 | N5: =N4*5 -> 0 | P5: 趵突泉
A6: 金针 | B6: 0.005 | D6: 料酒 | E6: 0.003 | G6: 百染线 | H6: 5 | J6: 煤炭 | K6: 0.16 | M6: 碧玺碎片 | P6: 五莲泉
A7: 葫芦 | B7: 0.03 | D7: 油盐酱醋 | E7: 0.002 | G7: 百股线 | H7: 50 | J7: 菜籽油 | K7: 0.38 | M7: 盘龙戏凤图 | P7: 星虹泉
A8: 药料 | B8: 1 | D8: 白菜 | E8: 0.16 | G8: 彩锦 | J8: 炼火石 | K8: 5 | M8: 真龙谱 | P8: 中冷泉
A9: 药用黄丹 | B9: 2 | D9: 豆腐 | E9: 0.16 | G9: 白编绫 | J9: 鎏金钥匙模 | K9: 20 | M9: 无极丝 | P9: 桐木
A10: 芍药 | D10: 冬瓜 | E10: 0.0055 | G10: 绫罗 | J10: 素银钥匙模 | K10: 10 | M10: 漓火丝 | P10: 柳木
A11: 兰草 | D11: 黄瓜 | E11: 0.0055 | G11: 水波绫 | J11: 精铁钥匙模 | K11: 1.5 | M11: 姬明丝 | P11: 檀木
A12: 相思子 | D12: 蘑菇 | E12: 0.005 | G12: 方棋绫 | J12: 锡制钥匙模 | K12: 1 | M12: 寒暝铁 | P12: 铁木
A13: 车前草 | D13: 姜 | E13: 0.0025 | G13: 轻容纱 | J13: 青铜钥匙模 | K13: 0.5 | M13: 恐牙 | P13: 栎实
A14: 天名精 | D14: 葱 | E14: 0.0015 | G14: 扎染布 | J14: 红铜 | M14: 苍龙壁 | P14: 霓霞线
A15: 防风 | D15: 辣椒 | E15: 1 | G15: 蜡染布 | J15: 锡砂 | M15: 归阳木 | P15: 草木灰
A16: 五味子 | D16: 生粉 | E16: 0.0025 | G16: 梨花绒 | J16: 砂铁 | M16: 渊穷砂 | P16: 翠绿流苏
A17: 金银花 | D17: 面粉 | E17: 0.002 | G17: 落日绢 | J17: 银砂 | M17: 火纹石 | P17: 飞凤绶带
A18: 金创小草 | D18: 花椒 | E18: 0.0015 | G18: 古香缎 | J18: 银礁 | M18: 碧青石 | P18: 赤铁粉
A19: 枸杞 | D19: 竹叶青 | E19: 20 | G19: 织锦缎 | J19: 丹砂 | M19: 幻彩珠 | P19: 栀子
A20: 千里香 | D20: 郎官清 | E20: 20 | G20: 狼皮 | J20: 细磨石 | M20: 断玉 | P20: 蜂蜡
A21: 田七 | D21: 西市腔 | E21: 20 | G21: 猪皮 | J21: 月锡矿石 | M21: 霓光珠 | P21: 蓼蓝叶
A22: 天麻 | D22: 富水 | E22: 20 | G22: 熊皮 | J22: 赤铁矿石 | M22: 凛冰藤
A23: 远志 | D23: 酱 | G23: 虎皮 | J23: 圳铁矿 | M23: 暮挽玉
A24: 仙茅 | D24: 碎肉 | G24: 百花布 | J24: 禹铜矿 | M24: 大禹石
A25: 川贝 | D25: 瘦肉 | G25: 百编皮革 | J25: 天青石 | M25: 岫山玉
A26: 虫草 | D26: 肥肉 | G26: 天工锦缎 | J26: 烟雨石 | M26: 南红珠
A27: 麦冬 | D27: 肠 | G27: 天工皮革 | J27: 首山铜 | M27: 金沙石
A28: 半夏 | D28: 腰子 | G28: 蜀染布卷 | J28: 五色石 | M28: 枷罗木
A29: 茯苓 | D29: 腱子肉 | G29: 九霞缎 | J29: 菩提木 | M29: 突厥玉
A30: 藿香 | D30: 五花肉 | G30: 貂皮 | J30: 金甲片 | M30: 沧海珠
A31: 菟丝子 | D31: 里脊肉 | G31: 天蛛丝 | J31: 隐月线 | M31: 月光石
A32: 彼岸花 | D32: 排骨 | G32: 珍珠缀放 | M32: 娑罗木
A33: 石莲花 | D33: 肉爪 | G33: 巨兽毛皮
A34: 白术 | D34: 软骨
A35: 紫苏 | D35: 精肉
A36: 露水 | D36: 上等排骨
A37: 黄精 | D37: 上等软骨
A38: 地黄 | D38: 上等蹄花
A39: 茜草 | D39: 上等五花肉
A40: 靛蓝 | D40: 上等里脊肉
...

Sheet 锻造计算
A1: 固定数据无需修改 | F1: 依据【材料价格】页自动生成 | G1: 自行 填写 | H1: 表格自动生成 | J1: 固定数据无需修改
A2: 名称 | B2: 类型 | C2: 数量 | D2: 精力 | E2: 效果 | F2: 总成本 | G2: 单价 | H2: 总利润 | I2: 利润精力比 | J2: 材料1 | K2: 数量 | L2: 材料2 | M2: 数量 | N2: 材料3 | O2: 数量 | P2: 材料4 | Q2: 数量 | R2: 材料5 | S2: 数量
A3: 固·安戎·锻（加速） | B3: 附魔 | C3: 1 | D3: 61 | E3: 帽子加速+27 | F3: =F62+材料价格!K28+材料价格!N6+材料价格!K8 -> 5 | H3: =G3-F3 -> -5 | I3: =ROUND(H3/D3,1) -> -0.1 | J3: 碧台细钢锭 | K3: 1 | L3: 五色石 | M3: 1 | N3: 碧玺碎片 | O3: 1 | P3: 炼火石 | Q3: 1
A4: 固·安戎·锻（内破） | B4: 附魔 | C4: 1 | D4: 61 | E4: 帽子内功破防+27 | F4: =F62+材料价格!K28+材料价格!K31+材料价格!K8 -> 5 | H4: =G4-F4 -> -5 | I4: =ROUND(H4/D4,1) -> -0.1 | J4: 碧台细钢锭 | K4: 1 | L4: 隐月线 | M4: 1 | N4: 碧玺碎片 | O4: 1 | P4: 炼火石 | Q4: 1
A5: 固·安戎·锻（外破） | B5: 附魔 | C5: 1 | D5: 61 | E5: 帽子外功破防+27 | F5: =F62+材料价格!K28+材料价格!K29+材料价格!K8 -> 5 | H5: =G5-F5 -> -5 | I5: =ROUND(H5/D5,1) -> -0.1 | J5: 碧台细钢锭 | K5: 1 | L5: 菩提木 | M5: 1 | N5: 碧玺碎片 | O5: 1 | P5: 炼火石 | Q5: 1
A6: 剑胆·锻（内会） | B6: 附魔 | C6: 1 | D6: 15 | E6: 帽子内功会心+49 | F6: =材料价格!K25*20+材料价格!K26*20+材料价格!N27*2+材料价格!K27*10+材料价格!K8*4 -> 20 | H6: =G6-F6 -> -20 | I6: =ROUND(H6/D6,1) -> -1.3 | J6: 天青石 | K6: 20 | L6: 烟雨石 | M6: 20 | N6: 金沙石 | O6: 2 | P6: 首山铜 | Q6: 10 | R6: 炼火石 | S6: 4
A7: 佳·剑胆·锻（内会） | B7: 附魔 | C7: 1 | D7: 30 | E7: 帽子内功会心+56 | F7: =F6*3+材料价格!N25*2+材料价格!N31*2+材料价格!K8*4 -> 80 | H7: =G7-F7 -> -80 | I7: =ROUND(H7/D7,1) -> -2.7 | J7: 剑胆·锻(内会) | K7: 3 | L7: 岫山玉 | M7: 2 | N7: 月光石 | O7: 2 | P7: 炼火石 | Q7: 4
A8: 剑胆·锻（外会） | B8: 附魔 | C8: 1 | D8: 15 | E8: 帽子外功会心+49 | F8: =材料价格!K25*20+材料价格!K26*20+材料价格!N26*2+材料价格!K27*10+材料价格!K8*4 -> 20 | H8: =G8-F8 -> -20 | I8: =ROUND(H8/D8,1) -> -1.3 | J8: 天青石 | K8: 20 | L8: 烟雨石 | M8: 20 | N8: 南红珠 | O8: 2 | P8: 首山铜 | Q8: 10 | R8: 炼火石 | S8: 4
A9: 佳·剑胆·锻（外会） | B9: 附魔 | C9: 1 | D9: 30 | E9: 帽子外功会心+56 | F9: =F8*3+材料价格!N28*2+材料价格!N30*2+材料价格!K8*4 -> 80 | H9: =G9-F9 -> -80 | I9: =ROUND(H9/D9,1) -> -2.7 | J9: 剑胆·锻(外会) | K9: 3 | L9: 枷罗木 | M9: 2 | N9: 沧海珠 | O9: 2 | P9: 炼火石 | Q9: 4
A10: 剑胆·锻（内命） | B10: 附魔 | C10: 1 | D10: 15 | E10: 帽子内功命中+49 | F10: =材料价格!K25*20+材料价格!K26*20+材料价格!N25*2+材料价格!K27*10+材料价格!K8*4 -> 20 | H10: =G10-F10 -> -20 | I10: =ROUND(H10/D10,1) -> -1.3 | J10: 天青石 | K10: 20 | L10: 烟雨石 | M10: 20 | N10: 岫山玉 | O10: 2 | P10: 首山铜 | Q10: 10 | R10: 炼火石 | S10: 4
A11: 佳·剑胆·锻（内命） | B11: 附魔 | C11: 1 | D11: 30 | E11: 帽子内功命中+56 | F11: =F10*3+材料价格!N27*2+材料价格!N29*2+材料价格!K8*4 -> 80 | H11: =G11-F11 -> -80 | I11: =ROUND(H11/D11,1) -> -2.7 | J11: 剑胆·锻(内命) | K11: 3 | L11: 金沙石 | M11: 2 | N11: 突厥玉 | O11: 2 | P11: 炼火石 | Q11: 4
A12: 剑胆·锻（外命） | B12: 附魔 | C12: 1 | D12: 15 | E12: 帽子外功命中+49 | F12: =材料价格!K25*20+材料价格!K26*20+材料价格!N28*2+材料价格!K27*10+材料价格!K8*4 -> 20 | H12: =G12-F12 -> -20 | I12: =ROUND(H12/D12,1) -> -1.3 | J12: 天青石 | K12: 20 | L12: 烟雨石 | M12: 20 | N12: 枷罗木 | O12: 2 | P12: 首山铜 | Q12: 10 | R12: 炼火石 | S12: 4
A13: 佳·剑胆·锻（外命） | B13: 附魔 | C13: 1 | D13: 30 | E13: 帽子外功命中+56 | F13: =F12*3+材料价格!N26*2+材料价格!N32*2+材料价格!K8*4 -> 80 | H13: =G13-F13 -> -80 | I13: =ROUND(H13/D13,1) -> -2.7 | J13: 剑胆·锻(外命) | K13: 3 | L13: 南红珠 | M13: 2 | N13: 娑罗木 | O13: 2 | P13: 炼火石 | Q13: 4
A14: 剑胆·锻（无双） | B14: 附魔 | C14: 1 | D14: 15 | E14: 帽子无双+49 | F14: =材料价格!K25*20+材料价格!K26*20+材料价格!N26*2+材料价格!K27*10+材料价格!K8*4 -> 20 | H14: =G14-F14 -> -20 | I14: =ROUND(H14/D14,1) -> -1.3 | J14: 天青石 | K14: 20 | L14: 烟雨石 | M14: 20 | N14: 南红珠 | O14: 2 | P14: 首山铜 | Q14: 10 | R14: 炼火石 | S14: 4
A15: 佳·剑胆·锻（无双） | B15: 附魔 | C15: 1 | D15: 30 | E15: 帽子无双+56 | F15: =F14*3+材料价格!N28*2+材料价格!N30*2+材料价格!K8*4 -> 80 | H15: =G15-F15 -> -80 | I15: =ROUND(H15/D15,1) -> -2.7 | J15: 剑胆·锻(无双) | K15: 3 | L15: 枷罗木 | M15: 2 | N15: 沧海珠 | O15: 2 | P15: 炼火石 | Q15: 4
A16: 剑胆·锻（仇恨） | B16: 附魔 | C16: 1 | D16: 15 | E16: 帽子仇恨+9.0% | F16: =材料价格!K25*20+材料价格!K26*20+材料价格!N25*2+材料价格!K27*10+材料价格!K8*4 -> 20 | H16: =G16-F16 -> -20 | I16: =ROUND(H16/D16,1) -> -1.3 | J16: 天青石 | K16: 20 | L16: 烟雨石 | M16: 20 | N16: 岫山玉 | O16: 2 | P16: 首山铜 | Q16: 10 | R16: 炼火石 | S16: 4
A17: 佳·剑胆·锻（仇恨） | B17: 附魔 | C17: 1 | D17: 30 | E17: 帽子仇恨+10.0% | F17: =F16*3+材料价格!N27*2+材料价格!N29*2+材料价格!K8*4 -> 80 | H17: =G17-F17 -> -80 | I17: =ROUND(H17/D17,1) -> -2.7 | J17: 剑胆·锻(仇恨) | K17: 3 | L17: 金沙石 | M17: 2 | N17: 突厥玉 | O17: 2 | P17: 炼火石 | Q17: 4
A18: 固·安戎·铸（加速） | B18: 附魔 | C18: 1 | D18: 61 | E18: 鞋子加速+27 | F18: =F62+材料价格!K28+材料价格!K29+材料价格!K8 -> 5 | H18: =G18-F18 -> -5 | I18: =ROUND(H18/D18,1) -> -0.1 | J18: 碧台细钢锭 | K18: 1 | L18: 菩提木 | M18: 1 | N18: 碧玺碎片 | O18: 1 | P18: 炼火石 | Q18: 1
A19: 固·安戎·铸（内破） | B19: 附魔 | C19: 1 | D19: 61 | E19: 鞋子内功破防+27 | F19: =F62+材料价格!K28+材料价格!N6+材料价格!K8 -> 5 | H19: =G19-F19 -> -5 | I19: =ROUND(H19/D19,1) -> -0.1 | J19: 碧台细钢锭 | K19: 1 | L19: 五色石 | M19: 1 | N19: 碧玺碎片 | O19: 1 | P19: 炼火石 | Q19: 1
A20: 固·安戎·铸（外破） | B20: 附魔 | C20: 1 | D20: 61 | E20: 鞋子外功破防+27 | F20: =F62+材料价格!K28+材料价格!K30+材料价格!K8 -> 5 | H20: =G20-F20 -> -5 | I20: =ROUND(H20/D20,1) -> -0.1 | J20: 碧台细钢锭 | K20: 1 | L20: 金甲片 | M20: 1 | N20: 碧玺碎片 | O20: 1 | P20: 炼火石 | Q20: 1
A21: 剑胆·铸（内会） | B21: 附魔 | C21: 1 | D21: 15 | E21: 鞋子内功会心+49 | F21: =材料价格!K25*20+材料价格!K26*20+材料价格!N26*2+材料价格!K27*10+材料价格!K8*4 -> 20 | H21: =G21-F21 -> -20 | I21: =ROUND(H21/D21,1) -> -1.3 | J21: 天青石 | K21: 20 | L21: 烟雨石 | M21: 20 | N21: 南红珠 | O21: 2 | P21: 首山铜 | Q21: 10 | R21: 炼火石 | S21: 4
A22: 佳·剑胆·铸（内会） | B22: 附魔 | C22: 1 | D22: 30 | E22: 鞋子内功会心+56 | F22: =F21*3+材料价格!N28*2+材料价格!N30*2+材料价格!K8*4 -> 80 | H22: =G22-F22 -> -80 | I22: =ROUND(H22/D22,1) -> -2.7 | J22: 剑胆·铸(内会) | K22: 3 | L22: 枷罗木 | M22: 2 | N22: 沧海珠 | O22: 2 | P22: 炼火石 | Q22: 4
A23: 剑胆·铸（外会） | B23: 附魔 | C23: 1 | D23: 15 | E23: 鞋子外功会心+49 | F23: =材料价格!K25*20+材料价格!K26*20+材料价格!N25*2+材料价格!K27*10+材料价格!K8*4 -> 20 | H23: =G23-F23 -> -20 | I23: =ROUND(H23/D23,1) -> -1.3 | J23: 天青石 | K23: 20 | L23: 烟雨石 | M23: 20 | N23: 岫山玉 | O23: 2 | P23: 首山铜 | Q23: 10 | R23: 炼火石 | S23: 4
A24: 佳·剑胆·铸（外会） | B24: 附魔 | C24: 1 | D24: 30 | E24: 鞋子外功会心+56 | F24: =F23*3+材料价格!N27*2+材料价格!N29*2+材料价格!K8*4 -> 80 | H24: =G24-F24 -> -80 | I24: =ROUND(H24/D24,1) -> -2.7 | J24: 剑胆·铸(外会) | K24: 3 | L24: 金沙石 | M24: 2 | N24: 突厥玉 | O24: 2 | P24: 炼火石 | Q24: 4
A25: 剑胆·铸（内命） | B25: 附魔 | C25: 1 | D25: 15 | E25: 鞋子内功命中+49 | F25: =材料价格!K25*20+材料价格!K26*20+材料价格!N28*2+材料价格!K27*10+材料价格!K8*4 -> 20 | H25: =G25-F25 -> -20 | I25: =ROUND(H25/D25,1) -> -1.3 | J25: 天青石 | K25: 20 | L25: 烟雨石 | M25: 20 | N25: 枷罗木 | O25: 2 | P25: 首山铜 | Q25: 10 | R25: 炼火石 | S25: 4
A26: 佳·剑胆·铸（内命） | B26: 附魔 | C26: 1 | D26: 30 | E26: 鞋子内功命中+56 | F26: =F25*3+材料价格!N26*2+材料价格!N32*2+材料价格!K8*4 -> 80 | H26: =G26-F26 -> -80 | I26: =ROUND(H26/D26,1) -> -2.7 | J26: 剑胆·铸(内命) | K26: 3 | L26: 南红珠 | M26: 2 | N26: 娑罗木 | O26: 2 | P26: 炼火石 | Q26: 4
A27: 剑胆·铸（外命） | B27: 附魔 | C27: 1 | D27: 15 | E27: 鞋子外功命中+49 | F27: =材料价格!K25*20+材料价格!K26*20+材料价格!N27*2+材料价格!K27*10+材料价格!K8*4 -> 20 | H27: =G27-F27 -> -20 | I27: =ROUND(H27/D27,1) -> -1.3 | J27: 天青石 | K27: 20 | L27: 烟雨石 | M27: 20 | N27: 金沙石 | O27: 2 | P27: 首山铜 | Q27: 10 | R27: 炼火石 | S27: 4
A28: 佳·剑胆·铸（外命） | B28: 附魔 | C28: 1 | D28: 30 | E28: 鞋子外功命中+56 | F28: =F27*3+材料价格!N25*2+材料价格!N31*2+材料价格!K8*4 -> 80 | H28: =G28-F28 -> -80 | I28: =ROUND(H28/D28,1) -> -2.7 | J28: 剑胆·铸(外命) | K28: 3 | L28: 岫山玉 | M28: 2 | N28: 月光石 | O28: 2 | P28: 炼火石 | Q28: 4
A29: 剑胆·铸（无双） | B29: 附魔 | C29: 1 | D29: 15 | E29: 鞋子无双+49 | F29: =材料价格!K25*20+材料价格!K26*20+材料价格!N25*2+材料价格!K27*10+材料价格!K8*4 -> 20 | H29: =G29-F29 -> -20 | I29: =ROUND(H29/D29,1) -> -1.3 | J29: 天青石 | K29: 20 | L29: 烟雨石 | M29: 20 | N29: 岫山玉 | O29: 2 | P29: 首山铜 | Q29: 10 | R29: 炼火石 | S29: 4
A30: 佳·剑胆·铸（无双） | B30: 附魔 | C30: 1 | D30: 30 | E30: 鞋子无双+56 | F30: =F29*3+材料价格!N27*2+材料价格!N29*2+材料价格!K8*4 -> 80 | H30: =G30-F30 -> -80 | I30: =ROUND(H30/D30,1) -> -2.7 | J30: 剑胆·铸(无双) | K30: 3 | L30: 金沙石 | M30: 2 | N30: 突厥玉 | O30: 2 | P30: 炼火石 | Q30: 4
A31: 剑胆·铸（仇恨） | B31: 附魔 | C31: 1 | D31: 15 | E31: 鞋子仇恨+9.0% | F31: =材料价格!K25*20+材料价格!K26*20+材料价格!N28*2+材料价格!K27*10+材料价格!K8*4 -> 20 | H31: =G31-F31 -> -20 | I31: =ROUND(H31/D31,1) -> -1.3 | J31: 天青石 | K31: 20 | L31: 烟雨石 | M31: 20 | N31: 枷罗木 | O31: 2 | P31: 首山铜 | Q31: 10 | R31: 炼火石 | S31: 4
A32: 佳·剑胆·铸（仇恨） | B32: 附魔 | C32: 1 | D32: 30 | E32: 鞋子仇恨+10.0% | F32: =F31*3+材料价格!N26*2+材料价格!N32*2+材料价格!K8*4 -> 80 | H32: =G32-F32 -> -80 | I32: =ROUND(H32/D32,1) -> -2.7 | J32: 剑胆·铸(仇恨) | K32: 3 | L32: 南红珠 | M32: 2 | N32: 娑罗木 | O32: 2 | P32: 炼火石 | Q32: 4
A33: 龙台磨石 | B33: 附魔 | C33: 1 | D33: 7 | E33: 武器伤害+3,30分钟 | F33: =材料价格!K20*3+材料价格!K19*2+材料价格!Q4+材料价格!Q5+材料价格!K7 -> 0.38 | H33: =G33-F33 -> -0.38 | I33: =ROUND(H33/D33,1) -> -0.1 | J33: 细磨石 | K33: 3 | L33: 丹砂 | M33: 2 | N33: 趵突泉 | O33: 1 | P33: 谷帘泉 | Q33: 1 | R33: 菜籽油 | S33: 1
A34: 燕勒磨石 | B34: 附魔 | C34: 1 | D34: 61 | E34: 武器外防+9 | F34: =F60*10+材料价格!N17*2+材料价格!Q7*10+材料价格!N4*4 -> 0 | H34: =G34-F34 -> 0 | I34: =ROUND(H34/D34,1) -> 0 | J34: 赤铁锭 | K34: 10 | L34: 火纹石 | M34: 2 | N34: 星虹泉 | O34: 10 | P34: 蜀玉碎片 | Q34: 4
A35: 燧棱磨石 | B35: 附魔 | C35: 1 | D35: 61 | E35: 武器仇恨+3.0% | F35: =F59*10+材料价格!N17*2+材料价格!N4*20+材料价格!K8*5 -> 25 | H35: =G35-F35 -> -25 | I35: =ROUND(H35/D35,1) -> -0.4 | J35: 月锡锭 | K35: 10 | L35: 火纹石 | M35: 2 | N35: 蜀玉碎片 | O35: 20 | P35: 炼火石 | Q35: 5
A36: 龙血磨石 | B36: 附魔 | C36: 1 | D36: 61 | E36: 偷取伤害2.05%的气血 | F36: =F59*10+F70*2+材料价格!N4*20+材料价格!K8*5 -> 25 | H36: =G36-F36 -> -25 | I36: =ROUND(H36/D36,1) -> -0.4 | J36: 月锡锭 | K36: 10 | L36: 火纹石 | M36: 2 | N36: 蜀玉碎片 | O36: 20 | P36: 炼火石 | Q36: 5
A37: 鬼虎磨石 | B37: 附魔 | C37: 1 | D37: 61 | E37: 武器御劲+9 | F37: =F60*10+材料价格!N18*2+材料价格!N4*20+材料价格!K8*5 -> 25 | H37: =G37-F37 -> -25 | I37: =ROUND(H37/D37,1) -> -0.4 | J37: 赤铁锭 | K37: 10 | L37: 碧青石 | M37: 2 | N37: 蜀玉碎片 | O37: 20 | P37: 炼火石 | Q37: 5
A38: 云锡磨石 | B38: 附魔 | C38: 1 | D38: 25 | E38: 武器外功命中+16 | F38: =F33*4+材料价格!K31+材料价格!Q5*5+材料价格!K7*5 -> 3.42 | H38: =G38-F38 -> -3.42 | I38: =ROUND(H38/D38,1) -> -0.1 | J38: 龙台磨石 | K38: 4 | L38: 隐月线 | M38: 1 | N38: 趵突泉 | O38: 5 | P38: 菜籽油 | Q38: 5
A39: 云英磨石 | B39: 附魔 | C39: 1 | D39: 25 | E39: 武器内功命中+16 | F39: =F33*4+材料价格!E44+材料价格!Q4*5+材料价格!K7*5 -> 3.42 | H39: =G39-F39 -> -3.42 | I39: =ROUND(H39/D39,1) -> -0.1 | J39: 龙台磨石 | K39: 4 | L39: 天山雪水 | M39: 1 | N39: 谷帘泉 | O39: 5 | P39: 菜籽油 | Q39: 5
A40: 剑胆·磨石（疗伤） | B40: 附魔 | C40: 1 | D40: 15 | E40: 武器疗效+39 | F40: =材料价格!K25*20+材料价格!K26*20+材料价格!N25*2+材料价格!K27*10+材料价格!K8*4 -> 20 | H40: =G40-F40 -> -20 | I40: =ROUND(H40/D40,1) -> -1.3 | J40: 天青石 | K40: 20 | L40: 烟雨石 | M40: 20 | N40: 岫山玉 | O40: 2 | P40: 首山铜 | Q40: 10 | R40: 炼火石 | S40: 4
...

Sheet 缝纫计算
A1: 固定数据无需修改 | F1: 依据【材料价格】页自动生成 | G1: 自行 填写 | H1: 表格自动生成 | J1: 固定数据无需修改
A2: 名称 | B2: 类型 | C2: 数量 | D2: 精力 | E2: 效果 | F2: 总成本 | G2: 单价 | H2: 总利润 | I2: 利润精力比 | J2: 材料1 | K2: 数量 | L2: 材料2 | M2: 数量 | N2: 材料3 | O2: 数量 | P2: 材料4 | Q2: 数量 | R2: 材料5 | S2: 数量
A3: 角砾染（腰带） | B3: 附魔 | C3: 1 | D3: 25 | E3: 腰带外功会心+16 | F3: =F56+材料价格!E42+材料价格!Q18*5+材料价格!H5*5 -> 2.7 | H3: =G3-F3 -> -2.7 | I3: =ROUND(H3/D3,1) -> -0.1 | J3: 天工皮革 | K3: 1 | L3: 古井泉 | M3: 1 | N3: 赤铁粉 | O3: 5 | P3: 百花线 | Q3: 5
A4: 流纹染（腰带） | B4: 附魔 | C4: 1 | D4: 25 | E4: 腰带内功会心+16 | F4: =F56+材料价格!E45+材料价格!Q15*5+材料价格!H5*5 -> 2.7 | H4: =G4-F4 -> -2.7 | I4: =ROUND(H4/D4,1) -> -0.1 | J4: 天工皮革 | K4: 1 | L4: 千年冰芯 | M4: 1 | N4: 草木灰 | O4: 5 | P4: 百花线 | Q4: 5
A5: 云锡染（腰带） | B5: 附魔 | C5: 1 | D5: 25 | E5: 腰带外功命中+18 | F5: =F56+材料价格!B40+材料价格!Q15*5+材料价格!H5*5 -> 2.7 | H5: =G5-F5 -> -2.7 | I5: =ROUND(H5/D5,1) -> -0.1 | J5: 天工皮革 | K5: 1 | L5: 靛蓝 | M5: 1 | N5: 草木灰 | O5: 5 | P5: 百花线 | Q5: 5
A6: 云英染（腰带） | B6: 附魔 | C6: 1 | D6: 61 | E6: 腰带内功命中+16 | F6: =F57*2+材料价格!N20*2+材料价格!N4*2+材料价格!Q7*10 -> 0.76 | H6: =G6-F6 -> -0.76 | I6: =ROUND(H6/D6,1) -> 0 | J6: 蜀染布卷 | K6: 2 | L6: 断玉 | M6: 2 | N6: 蜀玉碎片 | O6: 2 | P6: 星虹泉 | Q6: 10
A7: 苍·安戎·纹（外破） | B7: 附魔 | C7: 1 | D7: 61 | E7: 腰带外功破防+24 | F7: =F58+材料价格!N6+材料价格!H33+材料价格!H6*4 -> 20 | H7: =G7-F7 -> -20 | I7: =ROUND(H7/D7,1) -> -0.3 | J7: 碧床落花绒 | K7: 1 | L7: 碧玺碎片 | M7: 1 | N7: 巨兽毛皮 | O7: 1 | P7: 百染线 | Q7: 4
A8: 苍·安戎·纹（内破） | B8: 附魔 | C8: 1 | D8: 61 | E8: 腰带内功破防+24 | F8: =F58+材料价格!N6+材料价格!H31+材料价格!H6*4 -> 20 | H8: =G8-F8 -> -20 | I8: =ROUND(H8/D8,1) -> -0.3 | J8: 碧床落花绒 | K8: 1 | L8: 碧玺碎片 | M8: 1 | N8: 天蛛丝 | O8: 1 | P8: 百染线 | Q8: 4
A9: 剑胆·纹（内防） | B9: 附魔 | C9: 1 | D9: 15 | E9: 腰带内防+25 | F9: =材料价格!H18*20+材料价格!H19*20+材料价格!N27*2+材料价格!H29*10+材料价格!H6 -> 5 | H9: =G9-F9 -> -5 | I9: =ROUND(H9/D9,1) -> -0.3 | J9: 古香缎 | K9: 20 | L9: 织锦缎 | M9: 20 | N9: 金沙石 | O9: 2 | P9: 九霞缎 | Q9: 10 | R9: 百染线 | S9: 1
A10: 佳·剑胆·纹（内防） | B10: 附魔 | C10: 1 | D10: 15 | E10: 腰带内防+28 | F10: =F9*3+材料价格!N27*2+材料价格!N29*2+材料价格!H6 -> 20 | H10: =G10-F10 -> -20 | I10: =ROUND(H10/D10,1) -> -1.3 | J10: 剑胆·纹(内防) | K10: 3 | L10: 金沙石 | M10: 2 | N10: 突厥玉 | O10: 2 | P10: 百染线 | Q10: 1
A11: 剑胆·纹（外防） | B11: 附魔 | C11: 1 | D11: 15 | E11: 腰带外防+25 | F11: =材料价格!H18*20+材料价格!H19*20+材料价格!N26*2+材料价格!H29*10+材料价格!H6 -> 5 | H11: =G11-F11 -> -5 | I11: =ROUND(H11/D11,1) -> -0.3 | J11: 古香缎 | K11: 20 | L11: 织锦缎 | M11: 20 | N11: 南红珠 | O11: 2 | P11: 九霞缎 | Q11: 10 | R11: 百染线 | S11: 1
A12: 佳·剑胆·纹（外防） | B12: 附魔 | C12: 1 | D12: 15 | E12: 腰带外防+28 | F12: =F11*3+材料价格!N26*2+材料价格!N32*2+材料价格!H6 -> 20 | H12: =G12-F12 -> -20 | I12: =ROUND(H12/D12,1) -> -1.3 | J12: 剑胆·纹(外防) | K12: 3 | L12: 南红珠 | M12: 2 | N12: 娑罗木 | O12: 2 | P12: 百染线 | Q12: 1
A13: 剑胆·纹（闪避） | B13: 附魔 | C13: 1 | D13: 15 | E13: 腰带闪避+25 | F13: =材料价格!H18*20+材料价格!H19*20+材料价格!N25*2+材料价格!H29*10+材料价格!H6 -> 5 | H13: =G13-F13 -> -5 | I13: =ROUND(H13/D13,1) -> -0.3 | J13: 古香缎 | K13: 20 | L13: 织锦缎 | M13: 20 | N13: 岫山玉 | O13: 2 | P13: 九霞缎 | Q13: 10 | R13: 百染线 | S13: 1
A14: 佳·剑胆·纹（闪避） | B14: 附魔 | C14: 1 | D14: 15 | E14: 腰带闪避+28 | F14: =F13*3+材料价格!N25*2+材料价格!N31*2+材料价格!H6 -> 20 | H14: =G14-F14 -> -20 | I14: =ROUND(H14/D14,1) -> -1.3 | J14: 剑胆·纹(闪避) | K14: 3 | L14: 岫山玉 | M14: 2 | N14: 月光石 | O14: 2 | P14: 百染线 | Q14: 1
A15: 剑胆·纹（御劲） | B15: 附魔 | C15: 1 | D15: 15 | E15: 腰带御劲+25 | F15: =材料价格!H18*20+材料价格!H19*20+材料价格!N25*2+材料价格!H29*10+材料价格!H6 -> 5 | H15: =G15-F15 -> -5 | I15: =ROUND(H15/D15,1) -> -0.3 | J15: 古香缎 | K15: 20 | L15: 织锦缎 | M15: 20 | N15: 岫山玉 | O15: 2 | P15: 九霞缎 | Q15: 10 | R15: 百染线 | S15: 1
A16: 佳·剑胆·纹（御劲） | B16: 附魔 | C16: 1 | D16: 15 | E16: 腰带御劲+28 | F16: =F15*3+材料价格!N27*2+材料价格!N29*2+材料价格!H6 -> 20 | H16: =G16-F16 -> -20 | I16: =ROUND(H16/D16,1) -> -1.3 | J16: 剑胆·纹(御劲) | K16: 3 | L16: 金沙石 | M16: 2 | N16: 突厥玉 | O16: 2 | P16: 百染线 | Q16: 1
A17: 剑胆·纹（化劲） | B17: 附魔 | C17: 1 | D17: 15 | E17: 腰带化劲+25 | F17: =材料价格!H18*20+材料价格!H19*20+材料价格!N26*2+材料价格!H29*10+材料价格!H6 -> 5 | H17: =G17-F17 -> -5 | I17: =ROUND(H17/D17,1) -> -0.3 | J17: 古香缎 | K17: 20 | L17: 织锦缎 | M17: 20 | N17: 南红珠 | O17: 2 | P17: 九霞缎 | Q17: 10 | R17: 百染线 | S17: 1
A18: 佳·剑胆·纹（化劲） | B18: 附魔 | C18: 1 | D18: 15 | E18: 腰带化劲+28 | F18: =F17*3+材料价格!N28*2+材料价格!N30*2+材料价格!H6 -> 20 | H18: =G18-F18 -> -20 | I18: =ROUND(H18/D18,1) -> -1.3 | J18: 剑胆·纹(化劲) | K18: 3 | L18: 枷罗木 | M18: 2 | N18: 沧海珠 | O18: 2 | P18: 百染线 | Q18: 1
A19: 云锡绣（上装） | B19: 附魔 | C19: 1 | D19: 25 | E19: 上衣外功命中+16 | F19: =F55+材料价格!K29+材料价格!Q21*5+材料价格!H5 -> 4.98 | H19: =G19-F19 -> -4.98 | I19: =ROUND(H19/D19,1) -> -0.2 | J19: 天工锦缎 | K19: 1 | L19: 菩提木 | M19: 1 | N19: 蓼蓝叶 | O19: 5 | P19: 百花线 | Q19: 5
A20: 云英绣（上装） | B20: 附魔 | C20: 1 | D20: 61 | E20: 上衣内功命中+18 | F20: =F57*2+材料价格!N19*2+材料价格!N4*2+材料价格!Q7*10 -> 0.76 | H20: =G20-F20 -> -0.76 | I20: =ROUND(H20/D20,1) -> 0 | J20: 蜀染布卷 | K20: 2 | L20: 幻彩珠 | M20: 2 | N20: 蜀玉碎片 | O20: 2 | P20: 星虹泉 | Q20: 10
A21: 苍·安戎·绣（外破） | B21: 附魔 | C21: 1 | D21: 61 | E21: 上衣外功破防+24 | F21: =F58+材料价格!N6+材料价格!H32+材料价格!H6*4 -> 20 | H21: =G21-F21 -> -20 | I21: =ROUND(H21/D21,1) -> -0.3 | J21: 碧床落花绒 | K21: 1 | L21: 碧玺碎片 | M21: 1 | N21: 珍珠缀放 | O21: 1 | P21: 百染线 | Q21: 4
A22: 苍·安戎·绣（内破） | B22: 附魔 | C22: 1 | D22: 61 | E22: 上衣内功破防+24 | F22: =F58+材料价格!N6+材料价格!H30+材料价格!H6*4 -> 20 | H22: =G22-F22 -> -20 | I22: =ROUND(H22/D22,1) -> -0.3 | J22: 碧床落花绒 | K22: 1 | L22: 碧玺碎片 | M22: 1 | N22: 貂皮 | O22: 1 | P22: 百染线 | Q22: 4
A23: 剑胆·绣（内防） | B23: 附魔 | C23: 1 | D23: 15 | E23: 上衣内防+25 | F23: =材料价格!H18*20+材料价格!H19*20+材料价格!N25*2+材料价格!H29*10+材料价格!H6 -> 5 | H23: =G23-F23 -> -5 | I23: =ROUND(H23/D23,1) -> -0.3 | J23: 古香缎 | K23: 20 | L23: 织锦缎 | M23: 20 | N23: 岫山玉 | O23: 2 | P23: 九霞缎 | Q23: 10 | R23: 百染线 | S23: 1
A24: 佳·剑胆·绣（内防） | B24: 附魔 | C24: 1 | D24: 15 | E24: 上衣内防+28 | F24: =F23*3+材料价格!N25*2+材料价格!N31*2+材料价格!H6 -> 20 | H24: =G24-F24 -> -20 | I24: =ROUND(H24/D24,1) -> -1.3 | J24: 剑胆·绣(内防) | K24: 3 | L24: 岫山玉 | M24: 2 | N24: 月光石 | O24: 2 | P24: 百染线 | Q24: 1
A25: 剑胆·绣（外防） | B25: 附魔 | C25: 1 | D25: 15 | E25: 上衣外防+25 | F25: =材料价格!H18*20+材料价格!H19*20+材料价格!N28*2+材料价格!H29*10+材料价格!H6 -> 5 | H25: =G25-F25 -> -5 | I25: =ROUND(H25/D25,1) -> -0.3 | J25: 古香缎 | K25: 20 | L25: 织锦缎 | M25: 20 | N25: 枷罗木 | O25: 2 | P25: 九霞缎 | Q25: 10 | R25: 百染线 | S25: 1
A26: 佳·剑胆·绣（外防） | B26: 附魔 | C26: 1 | D26: 15 | E26: 上衣外防+28 | F26: =F25*3+材料价格!N28*2+材料价格!N30*2+材料价格!H6 -> 20 | H26: =G26-F26 -> -20 | I26: =ROUND(H26/D26,1) -> -1.3 | J26: 剑胆·绣(外防) | K26: 3 | L26: 枷罗木 | M26: 2 | N26: 沧海珠 | O26: 2 | P26: 百染线 | Q26: 1
A27: 剑胆·绣（闪避） | B27: 附魔 | C27: 1 | D27: 15 | E27: 上衣闪避+25 | F27: =材料价格!H18*20+材料价格!H19*20+材料价格!N27*2+材料价格!H29*10+材料价格!H6 -> 5 | H27: =G27-F27 -> -5 | I27: =ROUND(H27/D27,1) -> -0.3 | J27: 古香缎 | K27: 20 | L27: 织锦缎 | M27: 20 | N27: 金沙石 | O27: 2 | P27: 九霞缎 | Q27: 10 | R27: 百染线 | S27: 1
A28: 佳·剑胆·绣（闪避） | B28: 附魔 | C28: 1 | D28: 15 | E28: 上衣闪避+28 | F28: =F27*3+材料价格!N27*2+材料价格!N29*2+材料价格!H6 -> 20 | H28: =G28-F28 -> -20 | I28: =ROUND(H28/D28,1) -> -1.3 | J28: 剑胆·绣(闪避) | K28: 3 | L28: 金沙石 | M28: 2 | N28: 突厥玉 | O28: 2 | P28: 百染线 | Q28: 1
A29: 剑胆·绣（御劲） | B29: 附魔 | C29: 1 | D29: 15 | E29: 上衣御劲+25 | F29: =材料价格!H18*20+材料价格!H19*20+材料价格!N27*2+材料价格!H29*10+材料价格!H6 -> 5 | H29: =G29-F29 -> -5 | I29: =ROUND(H29/D29,1) -> -0.3 | J29: 古香缎 | K29: 20 | L29: 织锦缎 | M29: 20 | N29: 金沙石 | O29: 2 | P29: 九霞缎 | Q29: 10 | R29: 百染线 | S29: 1
A30: 佳·剑胆·绣（御劲） | B30: 附魔 | C30: 1 | D30: 15 | E30: 上衣御劲+28 | F30: =F29*3+材料价格!N27*2+材料价格!N29*2+材料价格!H6 -> 20 | H30: =G30-F30 -> -20 | I30: =ROUND(H30/D30,1) -> -1.3 | J30: 剑胆·绣(御劲) | K30: 3 | L30: 金沙石 | M30: 2 | N30: 突厥玉 | O30: 2 | P30: 百染线 | Q30: 1
A31: 剑胆·绣（化劲） | B31: 附魔 | C31: 1 | D31: 15 | E31: 上衣化劲+25 | F31: =材料价格!H18*20+材料价格!H19*20+材料价格!N28*2+材料价格!H29*10+材料价格!H6 -> 5 | H31: =G31-F31 -> -5 | I31: =ROUND(H31/D31,1) -> -0.3 | J31: 古香缎 | K31: 20 | L31: 织锦缎 | M31: 20 | N31: 枷罗木 | O31: 2 | P31: 九霞缎 | Q31: 10 | R31: 百染线 | S31: 1
A32: 佳·剑胆·绣（化劲） | B32: 附魔 | C32: 1 | D32: 15 | E32: 上衣化劲+28 | F32: =F31*3+材料价格!N28*2+材料价格!N30*2+材料价格!H6 -> 20 | H32: =G32-F32 -> -20 | I32: =ROUND(H32/D32,1) -> -1.3 | J32: 剑胆·绣(化劲) | K32: 3 | L32: 枷罗木 | M32: 2 | N32: 沧海珠 | O32: 2 | P32: 百染线 | Q32: 1
A33: 鬼虎绣（护手） | B33: 附魔 | C33: 1 | D33: 61 | E33: 护腕化劲+9 | F33: =F59+材料价格!N18*2+材料价格!N4*10+材料价格!H6*5 -> 26.52 | H33: =G33-F33 -> -26.52 | I33: =ROUND(H33/D33,1) -> -0.4 | J33: 天工染布 | K33: 1 | L33: 碧青石 | M33: 2 | N33: 蜀玉碎片 | O33: 10 | P33: 百染线 | Q33: 5
A34: 云锡绣（护手） | B34: 附魔 | C34: 1 | D34: 25 | E34: 护腕外功命中+18 | F34: =F56+材料价格!H33+材料价格!Q18*5+材料价格!H5*5 -> 2.7 | H34: =G34-F34 -> -2.7 | I34: =ROUND(H34/D34,1) -> -0.1 | J34: 天工皮革 | K34: 1 | L34: 巨兽毛皮 | M34: 1 | N34: 赤铁粉 | O34: 5 | P34: 百花线 | Q34: 5
A35: 云英绣（护手） | B35: 附魔 | C35: 1 | D35: 61 | E35: 护腕内功命中+16 | F35: =F57*2+材料价格!N20*2+材料价格!N4*2+材料价格!Q7*10 -> 0.76 | H35: =G35-F35 -> -0.76 | I35: =ROUND(H35/D35,1) -> 0 | J35: 蜀染布卷 | K35: 2 | L35: 断玉 | M35: 2 | N35: 蜀玉碎片 | O35: 2 | P35: 星虹泉 | Q35: 10
A36: 剑胆·染（疗伤） | B36: 附魔 | C36: 1 | D36: 15 | E36: 护腕疗效+39 | F36: =材料价格!H18*20+材料价格!H19*20+材料价格!N28*2+材料价格!H29*10+材料价格!H6 -> 5 | H36: =G36-F36 -> -5 | I36: =ROUND(H36/D36,1) -> -0.3 | J36: 古香缎 | K36: 20 | L36: 织锦缎 | M36: 20 | N36: 枷罗木 | O36: 2 | P36: 九霞缎 | Q36: 10 | R36: 百染线 | S36: 1
A37: 佳·剑胆·染（疗伤） | B37: 附魔 | C37: 1 | D37: 15 | E37: 护腕疗效+43 | F37: =F36*3+材料价格!N28*2+材料价格!N30*2+材料价格!H6 -> 20 | H37: =G37-F37 -> -20 | I37: =ROUND(H37/D37,1) -> -1.3 | J37: 剑胆·染(疗伤) | K37: 3 | L37: 枷罗木 | M37: 2 | N37: 沧海珠 | O37: 2 | P37: 百染线 | Q37: 1
A38: 剑胆·染（内会效） | B38: 附魔 | C38: 1 | D38: 15 | E38: 护腕内功会效+49 | F38: =材料价格!H18*20+材料价格!H19*20+材料价格!N25*2+材料价格!H29*10+材料价格!H6 -> 5 | H38: =G38-F38 -> -5 | I38: =ROUND(H38/D38,1) -> -0.3 | J38: 古香缎 | K38: 20 | L38: 织锦缎 | M38: 20 | N38: 岫山玉 | O38: 2 | P38: 九霞缎 | Q38: 10 | R38: 百染线 | S38: 1
A39: 佳剑胆·染（内会效） | B39: 附魔 | C39: 1 | D39: 15 | E39: 护腕内功会效+56 | F39: =F38*3+材料价格!N25*2+材料价格!N31*2+材料价格!H6 -> 20 | H39: =G39-F39 -> -20 | I39: =ROUND(H39/D39,1) -> -1.3 | J39: 剑胆·染(内会效) | K39: 3 | L39: 岫山玉 | M39: 2 | N39: 月光石 | O39: 2 | P39: 百染线 | Q39: 1
A40: 剑胆·染（外会效） | B40: 附魔 | C40: 1 | D40: 15 | E40: 护腕外功会效+49 | F40: =材料价格!H18*20+材料价格!H19*20+材料价格!N26*2+材料价格!H29*10+材料价格!H6 -> 5 | H40: =G40-F40 -> -5 | I40: =ROUND(H40/D40,1) -> -0.3 | J40: 古香缎 | K40: 20 | L40: 织锦缎 | M40: 20 | N40: 南红珠 | O40: 2 | P40: 九霞缎 | Q40: 10 | R40: 百染线 | S40: 1
...

Sheet 烹饪计算
A1: 固定数据无需修改 | F1: 依据【材料价格】页自动生成 | G1: 自行 填写 | H1: 表格自动生成 | J1: 固定数据无需修改
A2: 名称 | B2: 类型 | C2: 数量 | D2: 精力 | E2: 效果 | F2: 总成本 | G2: 单价 | H2: 总利润 | I2: 利润精力比 | J2: 材料1 | K2: 数量 | L2: 材料2 | M2: 数量 | N2: 材料3 | O2: 数量 | P2: 材料4 | Q2: 数量 | R2: 材料5 | S2: 数量
A3: 五生盘 | B3: 增强 | C3: 1 | D3: 15 | E3: 内功会心+74 | F3: =材料价格!E39*15+材料价格!E41+材料价格!E13*5+材料价格!E6 -> 0.0155 | H3: =G3-F3 -> -0.0155 | I3: =ROUND(H3/61,1) -> 0 | J3: 上等五花肉 | K3: 15 | L3: 上等腰子 | M3: 1 | N3: 姜 | O3: 5 | P3: 料酒 | Q3: 1
A4: 佳·五生盘 | B4: 增强 | C4: 1 | D4: 20 | E4: 内功会心+83 | F4: =F3*3+材料价格!N28*3+材料价格!N30+材料价格!E7*5 -> 0.0565 | H4: =G4-F4 -> -0.0565 | I4: =ROUND(H4/61,1) -> 0 | J4: 五生盘 | K4: 3 | L4: 枷罗木 | M4: 3 | N4: 沧海珠 | O4: 1 | P4: 油盐酱醋 | Q4: 5
A5: 通花软牛肠 | B5: 增强 | C5: 1 | D5: 15 | E5: 内功会心效果+74 | F5: =材料价格!E40*15+材料价格!E41+材料价格!E12*5+材料价格!E7 -> 0.027 | H5: =G5-F5 -> -0.027 | I5: =ROUND(H5/61,1) -> 0 | J5: 上等里脊肉 | K5: 15 | L5: 上等腰子 | M5: 1 | N5: 蘑菇 | O5: 5 | P5: 油盐酱醋 | Q5: 1
A6: 佳·通花软牛肠 | B6: 增强 | C6: 1 | D6: 20 | E6: 内功会心效果+83 | F6: =F5*3+材料价格!N25*3+材料价格!N31+材料价格!E7*5 -> 0.091 | H6: =G6-F6 -> -0.091 | I6: =ROUND(H6/61,1) -> 0 | J6: 通花软牛肠 | K6: 3 | L6: 岫山玉 | M6: 3 | N6: 月光石 | O6: 1 | P6: 油盐酱醋 | Q6: 5
A7: 苍·走油蹄髈 | B7: 增强 | C7: 3 | D7: 61 | E7: 内功攻击+44 | F7: =(F31+材料价格!E42+材料价格!E15*5+材料价格!E7)/3 -> 1.6673333 | H7: =G7-F7 -> -1.6673333 | I7: =ROUND(H7/61,1) -> 0 | J7: 碧笼盈蒸肉 | K7: 1 | L7: 古井泉 | M7: 1 | N7: 辣椒 | O7: 5 | P7: 油盐酱醋 | Q7: 1
A8: 苍·提神汤 | B8: 增强 | C8: 3 | D8: 61 | E8: 内功破防+49 | F8: =(F31+材料价格!E45+材料价格!E8*5+材料价格!E6)/3 -> 0.26766667 | H8: =G8-F8 -> -0.26766667 | I8: =ROUND(H8/61,1) -> 0 | J8: 碧笼盈蒸肉 | K8: 1 | L8: 千年冰芯 | M8: 1 | N8: 白菜 | O8: 5 | P8: 料酒 | Q8: 1
A9: 水炼犊 | B9: 增强 | C9: 1 | D9: 15 | E9: 外功会心+74 | F9: =材料价格!E40*15+材料价格!E41+材料价格!E11*5+材料价格!E7 -> 0.0295 | H9: =G9-F9 -> -0.0295 | I9: =ROUND(H9/61,1) -> 0 | J9: 上等里脊肉 | K9: 15 | L9: 上等腰子 | M9: 1 | N9: 黄瓜 | O9: 5 | P9: 油盐酱醋 | Q9: 1
A10: 佳·水炼犊 | B10: 增强 | C10: 1 | D10: 20 | E10: 外功会心+83 | F10: =F9*3+材料价格!N27*3+材料价格!N29+材料价格!E7*5 -> 0.0985 | H10: =G10-F10 -> -0.0985 | I10: =ROUND(H10/61,1) -> 0 | J10: 水炼犊 | K10: 3 | L10: 金沙石 | M10: 3 | N10: 突厥玉 | O10: 1 | P10: 油盐酱醋 | Q10: 5
A11: 清凉月霍碎 | B11: 增强 | C11: 1 | D11: 15 | E11: 外功会心效果+74 | F11: =材料价格!E39*15+材料价格!E41+材料价格!E14*5+材料价格!E7 -> 0.0095 | H11: =G11-F11 -> -0.0095 | I11: =ROUND(H11/61,1) -> 0 | J11: 上等五花肉 | K11: 15 | L11: 上等腰子 | M11: 1 | N11: 葱 | O11: 1 | P11: 油盐酱醋 | Q11: 1
A12: 佳·清凉月霍碎 | B12: 增强 | C12: 1 | D12: 20 | E12: 外功会心效果+83 | F12: =F11*3+材料价格!N26*3+材料价格!N32+材料价格!E7*5 -> 0.0385 | H12: =G12-F12 -> -0.0385 | I12: =ROUND(H12/61,1) -> 0 | J12: 清凉月霍碎 | K12: 3 | L12: 南红珠 | M12: 3 | N12: 娑罗木 | O12: 1 | P12: 油盐酱醋 | Q12: 5
A13: 苍·麻香软骨脆 | B13: 增强 | C13: 3 | D13: 61 | E13: 外功攻击+36 | F13: =(F31+材料价格!E45+材料价格!E15*5+材料价格!E7)/3 -> 1.6673333 | H13: =G13-F13 -> -1.6673333 | I13: =ROUND(H13/61,1) -> 0 | J13: 碧笼盈蒸肉 | K13: 1 | L13: 千年冰芯 | M13: 1 | N13: 辣椒 | O13: 5 | P13: 油盐酱醋 | Q13: 1
A14: 苍·健体汤 | B14: 增强 | C14: 3 | D14: 61 | E14: 外功破防+49 | F14: =(F31+材料价格!E44+材料价格!E8*5+材料价格!E7)/3 -> 0.26733333 | H14: =G14-F14 -> -0.26733333 | I14: =ROUND(H14/61,1) -> 0 | J14: 碧笼盈蒸肉 | K14: 1 | L14: 天山雪水 | M14: 1 | N14: 白菜 | O14: 5 | P14: 油盐酱醋 | Q14: 1
A15: 天花毕罗 | B15: 增强 | C15: 1 | D15: 15 | E15: 仇恨百分比+13% | F15: =材料价格!E40*15+材料价格!E41+材料价格!E10*5+材料价格!E7 -> 0.0295 | H15: =G15-F15 -> -0.0295 | I15: =ROUND(H15/61,1) -> 0 | J15: 上等里脊肉 | K15: 15 | L15: 上等腰子 | M15: 1 | N15: 冬瓜 | O15: 5 | P15: 油盐酱醋 | Q15: 1
A16: 佳·天花毕罗 | B16: 增强 | C16: 1 | D16: 20 | E16: 仇恨百分比+14% | F16: =F15*3+材料价格!N26*3+材料价格!N32+材料价格!E7*5 -> 0.0985 | H16: =G16-F16 -> -0.0985 | I16: =ROUND(H16/61,1) -> 0 | J16: 天花毕罗 | K16: 3 | L16: 南红珠 | M16: 3 | N16: 娑罗木 | O16: 1 | P16: 油盐酱醋 | Q16: 5
A17: 同心生结脯 | B17: 增强 | C17: 1 | D17: 15 | E17: 疗效+58 | F17: =材料价格!E40*15+材料价格!E41+材料价格!E12*5+材料价格!E7 -> 0.027 | H17: =G17-F17 -> -0.027 | I17: =ROUND(H17/61,1) -> 0 | J17: 上等里脊肉 | K17: 15 | L17: 上等腰子 | M17: 1 | N17: 蘑菇 | O17: 5 | P17: 油盐酱醋 | Q17: 1
A18: 佳·同心生结脯 | B18: 增强 | C18: 1 | D18: 20 | E18: 疗效+65 | F18: =F17*3+材料价格!N25*3+材料价格!N31+材料价格!E7*5 -> 0.091 | H18: =G18-F18 -> -0.091 | I18: =ROUND(H18/61,1) -> 0 | J18: 同心生结脯 | K18: 3 | L18: 岫山玉 | M18: 3 | N18: 月光石 | O18: 1 | P18: 油盐酱醋 | Q18: 5
A19: 西江料 | B19: 增强 | C19: 1 | D19: 15 | E19: 气血上限+370 | F19: =材料价格!E40*15+材料价格!E41+材料价格!E14*5+材料价格!E7 -> 0.0095 | H19: =G19-F19 -> -0.0095 | I19: =ROUND(H19/61,1) -> 0 | J19: 上等里脊肉 | K19: 15 | L19: 上等腰子 | M19: 1 | N19: 葱 | O19: 1 | P19: 油盐酱醋 | Q19: 1
A20: 佳·西江料 | B20: 增强 | C20: 1 | D20: 20 | E20: 气血上限+417 | F20: =F19*3+材料价格!N27*3+材料价格!N29+材料价格!E7*5 -> 0.0385 | H20: =G20-F20 -> -0.0385 | I20: =ROUND(H20/61,1) -> 0 | J20: 西江料 | K20: 3 | L20: 金沙石 | M20: 3 | N20: 突厥玉 | O20: 1 | P20: 油盐酱醋 | Q20: 5
A21: 长生粥 | B21: 辅助 | C21: 1 | D21: 15 | E21: 元气+27 | F21: =材料价格!E40*15+材料价格!E41+材料价格!E13*5+材料价格!E6 -> 0.0155 | H21: =G21-F21 -> -0.0155 | I21: =ROUND(H21/61,1) -> 0 | J21: 上等里脊肉 | K21: 15 | L21: 上等腰子 | M21: 1 | N21: 姜 | O21: 5 | P21: 料酒 | Q21: 1
A22: 佳·长生粥 | B22: 辅助 | C22: 1 | D22: 20 | E22: 元气+31 | F22: =F21*3+材料价格!N25*3+材料价格!N31+材料价格!E7*5 -> 0.0565 | H22: =G22-F22 -> -0.0565 | I22: =ROUND(H22/61,1) -> 0 | J22: 长生粥 | K22: 3 | L22: 岫山玉 | M22: 3 | N22: 月光石 | O22: 1 | P22: 油盐酱醋 | Q22: 5
A23: 小天酥 | B23: 辅助 | C23: 1 | D23: 15 | E23: 身法+27 | F23: =材料价格!E39*15+材料价格!E41+材料价格!E12*5+材料价格!E6 -> 0.028 | H23: =G23-F23 -> -0.028 | I23: =ROUND(H23/61,1) -> 0 | J23: 上等五花肉 | K23: 15 | L23: 上等腰子 | M23: 1 | N23: 蘑菇 | O23: 5 | P23: 料酒 | Q23: 1
A24: 佳·小天酥 | B24: 辅助 | C24: 1 | D24: 20 | E24: 身法+31 | F24: =F23*3+材料价格!N26*3+材料价格!N32+材料价格!E7*5 -> 0.094 | H24: =G24-F24 -> -0.094 | I24: =ROUND(H24/61,1) -> 0 | J24: 小天酥 | K24: 3 | L24: 南红珠 | M24: 3 | N24: 娑罗木 | O24: 1 | P24: 油盐酱醋 | Q24: 5
A25: 凤凰胎 | B25: 辅助 | C25: 1 | D25: 15 | E25: 力道+27 | F25: =材料价格!E39*15+材料价格!E41+材料价格!E11*5+材料价格!E6 -> 0.0305 | H25: =G25-F25 -> -0.0305 | I25: =ROUND(H25/61,1) -> 0 | J25: 上等五花肉 | K25: 15 | L25: 上等腰子 | M25: 1 | N25: 黄瓜 | O25: 5 | P25: 料酒 | Q25: 1
A26: 佳·凤凰胎 | B26: 辅助 | C26: 1 | D26: 20 | E26: 力道+31 | F26: =F25*3+材料价格!N28*3+材料价格!N30+材料价格!E7*5 -> 0.1015 | H26: =G26-F26 -> -0.1015 | I26: =ROUND(H26/61,1) -> 0 | J26: 凤凰胎 | K26: 3 | L26: 枷罗木 | M26: 3 | N26: 沧海珠 | O26: 1 | P26: 油盐酱醋 | Q26: 5
A27: 汉宫棋 | B27: 辅助 | C27: 1 | D27: 15 | E27: 根骨+27 | F27: =材料价格!E40*15+材料价格!E41+材料价格!E10*5+材料价格!E6 -> 0.0305 | H27: =G27-F27 -> -0.0305 | I27: =ROUND(H27/61,1) -> 0 | J27: 上等里脊肉 | K27: 15 | L27: 上等腰子 | M27: 1 | N27: 冬瓜 | O27: 5 | P27: 料酒 | Q27: 1
A28: 佳·汉宫棋 | B28: 辅助 | C28: 1 | D28: 20 | E28: 根骨+31 | F28: =F27*3+材料价格!N27*3+材料价格!N29+材料价格!E7*5 -> 0.1015 | H28: =G28-F28 -> -0.1015 | I28: =ROUND(H28/61,1) -> 0 | J28: 汉宫棋 | K28: 3 | L28: 金沙石 | M28: 3 | N28: 突厥玉 | O28: 1 | P28: 油盐酱醋 | Q28: 5
A29: 玉露团 | B29: 辅助 | C29: 1 | D29: 15 | E29: 体质+37 | F29: =材料价格!E39*15+材料价格!E41+材料价格!E14*5+材料价格!E6 -> 0.0105 | H29: =G29-F29 -> -0.0105 | I29: =ROUND(H29/61,1) -> 0 | J29: 上等五花肉 | K29: 15 | L29: 上等腰子 | M29: 1 | N29: 葱 | O29: 5 | P29: 料酒 | Q29: 1
A30: 佳·玉露团 | B30: 辅助 | C30: 1 | D30: 20 | E30: 体质+42 | F30: =F29*3+材料价格!N25*3+材料价格!N31+材料价格!E7*5 -> 0.0415 | H30: =G30-F30 -> -0.0415 | I30: =ROUND(H30/61,1) -> 0 | J30: 玉露团 | K30: 3 | L30: 岫山玉 | M30: 3 | N30: 月光石 | O30: 1 | P30: 油盐酱醋 | Q30: 5
A31: 碧笼盈蒸肉 | B31: 材料 | C31: 5 | D31: 61 | F31: =(材料价格!E36*20+材料价格!E37*20+材料价格!E38*20+材料价格!N6)/5 -> 0 | H31: =G31-F31 -> 0 | I31: =ROUND(H31/61,1) -> 0 | J31: 上等软骨 | K31: 20 | L31: 上等蹄花 | M31: 20 | N31: 上等排骨 | O31: 20 | P31: 碧玺碎片 | Q31: 1
A32: 肉馅 | B32: 材料 | C32: 1 | D32: 7 | F32: =材料价格!E24+材料价格!E14 -> 0.0015 | H32: =G32-F32 -> -0.0015 | I32: =ROUND(H32/61,1) -> 0 | J32: 碎肉 | K32: 1 | L32: 葱 | M32: 1
A33: 肉丸 | B33: 材料 | C33: 1 | D33: 7 | F33: =F32*2+材料价格!E17 -> 0.005 | H33: =G33-F33 -> -0.005 | I33: =ROUND(H33/61,1) -> 0 | J33: 肉馅 | K33: 2 | L33: 面粉 | M33: 1
A34: 饺子皮 | B34: 材料 | C34: 1 | D34: 7 | F34: =材料价格!E17+材料价格!E16 -> 0.0045 | H34: =G34-F34 -> -0.0045 | I34: =ROUND(H34/61,1) -> 0 | J34: 面粉 | K34: 1 | L34: 生粉 | M34: 1
A35: 饺子馅 | B35: 材料 | C35: 1 | D35: 7 | F35: =材料价格!E25*2+材料价格!E26*2+材料价格!E14+材料价格!E7 -> 0.0035 | H35: =G35-F35 -> -0.0035 | I35: =ROUND(H35/61,1) -> 0 | J35: 瘦肉 | K35: 2 | L35: 肥肉 | M35: 2 | N35: 葱 | O35: 1 | P35: 油盐酱醋 | Q35: 1
A36: 戏凤饺 | B36: 特殊 | C36: 1 | D36: 37 | E36: 全属性+1 | F36: =F34+F35+材料价格!Q6 -> 0.008 | H36: =G36-F36 -> -0.008 | I36: =ROUND(H36/61,1) -> 0 | J36: 饺子皮 | K36: 1 | L36: 饺子馅 | M36: 1 | N36: 五莲泉 | O36: 1
A37: 鸳鸯烩珍宴 | B37: 宴席 | C37: 1 | D37: 61 | E37: 疗效+21，内会+18 | F37: =材料价格!E34*20+材料价格!E35*20+材料价格!E21*5+材料价格!Q7*10+材料价格!E4*5 -> 100.8 | H37: =G37-F37 -> -100.8 | I37: =ROUND(H37/61,1) -> -1.7 | J37: 软骨 | K37: 20 | L37: 精肉 | M37: 20 | N37: 西市腔 | O37: 5 | P37: 星虹泉 | Q37: 10 | R37: 藕 | S37: 5
A38: 蜀味烘焙宴 | B38: 宴席 | C38: 1 | D38: 61 | E38: 提高威胁、双防、气血 | F38: =材料价格!E33*20+材料价格!E35*20+材料价格!E22*5+材料价格!Q7*10+材料价格!E5*5 -> 100.8 | H38: =G38-F38 -> -100.8 | I38: =ROUND(H38/61,1) -> -1.7 | J38: 肉爪 | K38: 20 | L38: 精肉 | M38: 20 | N38: 富水 | O38: 5 | P38: 星虹泉 | Q38: 10 | R38: 桂花 | S38: 5
A39: 玉笛谁家听落梅 | B39: 宴席 | C39: 1 | D39: 61 | E39: 根骨身法力道 | F39: =材料价格!E33*20+材料价格!E35*20+材料价格!E19*5+材料价格!Q7*10+材料价格!E4*5 -> 100.8 | H39: =G39-F39 -> -100.8 | I39: =ROUND(H39/61,1) -> -1.7 | J39: 肉爪 | K39: 20 | L39: 精肉 | M39: 20 | N39: 竹叶青 | O39: 5 | P39: 星虹泉 | Q39: 10 | R39: 藕 | S39: 5
A40: 二十四桥明月夜 | B40: 宴席 | C40: 1 | D40: 61 | E40: 元气根骨 | F40: =材料价格!E34*20+材料价格!E35*20+材料价格!E20*5+材料价格!Q7*10+材料价格!E5*5 -> 100.8 | H40: =G40-F40 -> -100.8 | I40: =ROUND(H40/61,1) -> -1.7 | J40: 软骨 | K40: 20 | L40: 精肉 | M40: 20 | N40: 郎官清 | O40: 5 | P40: 星虹泉 | Q40: 10 | R40: 桂花 | S40: 5
...

Sheet 制药计算
A1: 固定数据无需修改 | F1: 依据【材料价格】页自动生成 | G1: 自行 填写 | H1: 表格自动生成 | J1: 固定数据无需修改
A2: 名称 | B2: 类型 | C2: 数量 | D2: 精力 | E2: 效果 | F2: 总成本 | G2: 单价 | H2: 总利润 | I2: 利润精力比 | J2: 材料1 | K2: 数量 | L2: 材料2 | M2: 数量 | N2: 材料3 | O2: 数量 | P2: 材料4 | Q2: 数量 | R2: 材料5 | S2: 数量
A3: 白信丹 | B3: 增强 | C3: 1 | D3: 20 | E3: 内功会心+111 | F3: =材料价格!B35*15+材料价格!B37+材料价格!B8 -> 1 | H3: =G3-F3 -> -1 | I3: =ROUND(H3/97,1) -> 0 | J3: 紫苏 | K3: 15 | L3: 黄精 | M3: 1 | N3: 药料 | O3: 1
A4: 佳·白信丹 | B4: 增强 | C4: 1 | D4: 20 | E4: 内功会心+125 | F4: =F3*3+材料价格!N26*3+材料价格!N32+材料价格!B8 -> 4 | H4: =G4-F4 -> -4 | I4: =ROUND(H4/97,1) -> 0 | J4: 白信丹 | K4: 3 | L4: 南红珠 | M4: 3 | N4: 娑罗木 | O4: 1 | P4: 药料 | Q4: 1
A5: 妙香丹 | B5: 增强 | C5: 1 | D5: 15 | E5: 内功会心效果+111 | F5: =材料价格!B35*15+材料价格!B37+材料价格!B8 -> 1 | H5: =G5-F5 -> -1 | I5: =ROUND(H5/97,1) -> 0 | J5: 紫苏 | K5: 15 | L5: 黄精 | M5: 1 | N5: 药料 | O5: 1
A6: 佳·妙香丹 | B6: 增强 | C6: 1 | D6: 20 | E6: 内功会心效果+125 | F6: =F5*3+材料价格!N27*3+材料价格!N29+材料价格!B8 -> 4 | H6: =G6-F6 -> -4 | I6: =ROUND(H6/97,1) -> 0 | J6: 妙香丹 | K6: 3 | L6: 金沙石 | M6: 3 | N6: 突厥玉 | O6: 1 | P6: 药料 | Q6: 1
A7: 苍·提神香囊 | B7: 增强 | C7: 3 | D7: 81 | E7: 内功破防+49 | F7: =(F37+材料价格!B41+材料价格!B9+材料价格!B7)/3 -> 0.67666667 | H7: =G7-F7 -> -0.67666667 | I7: =ROUND(H7/97,1) -> 0 | J7: 碧闺药花 | K7: 1 | L7: 绢云母 | M7: 1 | N7: 药用黄丹 | O7: 4 | P7: 葫芦 | Q7: 1
A8: 苍·上品展凤丹 | B8: 增强 | C8: 3 | D8: 81 | E8: 内功攻击+66 | F8: =(F37+材料价格!B39+材料价格!B9+材料价格!B7)/3 -> 0.67666667 | H8: =G8-F8 -> -0.67666667 | I8: =ROUND(H8/97,1) -> 0 | J8: 碧闺药花 | K8: 1 | L8: 茜草 | M8: 1 | N8: 药用黄丹 | O8: 4 | P8: 葫芦 | Q8: 1
A9: 玉璃丹 | B9: 增强 | C9: 1 | D9: 20 | E9: 外功会心+111 | F9: =材料价格!B34*15+材料价格!B37+材料价格!B8 -> 1 | H9: =G9-F9 -> -1 | I9: =ROUND(H9/97,1) -> 0 | J9: 白术 | K9: 15 | L9: 黄精 | M9: 1 | N9: 药料 | O9: 1
A10: 佳·玉璃丹 | B10: 增强 | C10: 1 | D10: 20 | E10: 外功会心+125 | F10: =F9*3+材料价格!N28*3+材料价格!N30+材料价格!B8 -> 4 | H10: =G10-F10 -> -4 | I10: =ROUND(H10/97,1) -> 0 | J10: 玉璃丹 | K10: 3 | L10: 枷罗木 | M10: 3 | N10: 沧海珠 | O10: 1 | P10: 药料 | Q10: 1
A11: 玉枢丹 | B11: 增强 | C11: 1 | D11: 15 | E11: 外功会心效果+111 | F11: =材料价格!B34*15+材料价格!B37+材料价格!B8 -> 1 | H11: =G11-F11 -> -1 | I11: =ROUND(H11/97,1) -> 0 | J11: 白术 | K11: 15 | L11: 黄精 | M11: 1 | N11: 药料 | O11: 1
A12: 佳·玉枢丹 | B12: 增强 | C12: 1 | D12: 20 | E12: 外功会心效果+125 | F12: =F11*3+材料价格!N28*3+材料价格!N30+材料价格!B8 -> 4 | H12: =G12-F12 -> -4 | I12: =ROUND(H12/97,1) -> 0 | J12: 玉枢丹 | K12: 3 | L12: 枷罗木 | M12: 3 | N12: 沧海珠 | O12: 1 | P12: 药料 | Q12: 1
A13: 苍·健体香囊 | B13: 增强 | C13: 3 | D13: 81 | E13: 外功破防+49 | F13: =(F37+材料价格!B40+材料价格!B9+材料价格!B7)/3 -> 0.67666667 | H13: =G13-F13 -> -0.67666667 | I13: =ROUND(H13/97,1) -> 0 | J13: 碧闺药花 | K13: 1 | L13: 靛蓝 | M13: 1 | N13: 药用黄丹 | O13: 4 | P13: 葫芦 | Q13: 1
A14: 苍·上品亢龙丹 | B14: 增强 | C14: 3 | D14: 81 | E14: 外功攻击+55 | F14: =(F37+材料价格!B41+材料价格!B9+材料价格!B7)/3 -> 0.67666667 | H14: =G14-F14 -> -0.67666667 | I14: =ROUND(H14/97,1) -> 0 | J14: 碧闺药花 | K14: 1 | L14: 绢云母 | M14: 1 | N14: 药用黄丹 | O14: 4 | P14: 葫芦 | Q14: 1
A15: 清灵丹 | B15: 增强 | C15: 1 | D15: 15 | E15: 疗效+87 | F15: =材料价格!B35*15+材料价格!B37+材料价格!B8 -> 1 | H15: =G15-F15 -> -1 | I15: =ROUND(H15/97,1) -> 0 | J15: 紫苏 | K15: 15 | L15: 黄精 | M15: 1 | N15: 药料 | O15: 1
A16: 佳·清灵丹 | B16: 增强 | C16: 1 | D16: 20 | E16: 疗效+98 | F16: =F15*3+材料价格!N26*3+材料价格!N32+材料价格!B8 -> 4 | H16: =G16-F16 -> -4 | I16: =ROUND(H16/97,1) -> 0 | J16: 清灵丹 | K16: 3 | L16: 南红珠 | M16: 3 | N16: 娑罗木 | O16: 1 | P16: 药料 | Q16: 1
A17: 灵寿丹 | B17: 增强 | C17: 1 | D17: 15 | E17: 仇恨百分比+19% | F17: =材料价格!B35*15+材料价格!B37+材料价格!B8 -> 1 | H17: =G17-F17 -> -1 | I17: =ROUND(H17/97,1) -> 0 | J17: 紫苏 | K17: 15 | L17: 黄精 | M17: 1 | N17: 药料 | O17: 1
A18: 佳·灵寿丹 | B18: 增强 | C18: 1 | D18: 20 | E18: 仇恨百分比+22% | F18: =F17*3+材料价格!N26*3+材料价格!N32+材料价格!B8 -> 4 | H18: =G18-F18 -> -4 | I18: =ROUND(H18/97,1) -> 0 | J18: 灵寿丹 | K18: 3 | L18: 南红珠 | M18: 3 | N18: 娑罗木 | O18: 1 | P18: 药料 | Q18: 1
A19: 玄元丹 | B19: 增强 | C19: 1 | D19: 15 | E19: 气血上限+556 | F19: =材料价格!B35*15+材料价格!B37+材料价格!B8 -> 1 | H19: =G19-F19 -> -1 | I19: =ROUND(H19/97,1) -> 0 | J19: 紫苏 | K19: 15 | L19: 黄精 | M19: 1 | N19: 药料 | O19: 1
A20: 佳·玄元丹 | B20: 增强 | C20: 1 | D20: 20 | E20: 气血上限+625 | F20: =F19*3+材料价格!N27*3+材料价格!N29+材料价格!B8 -> 4 | H20: =G20-F20 -> -4 | I20: =ROUND(H20/97,1) -> 0 | J20: 玄元丹 | K20: 3 | L20: 金沙石 | M20: 3 | N20: 突厥玉 | O20: 1 | P20: 药料 | Q20: 1
A21: 养神丹 | B21: 辅助 | C21: 1 | D21: 15 | E21: 元气+41 | F21: =材料价格!B35*15+材料价格!B37+材料价格!B8 -> 1 | H21: =G21-F21 -> -1 | I21: =ROUND(H21/97,1) -> 0 | J21: 紫苏 | K21: 15 | L21: 黄精 | M21: 1 | N21: 药料 | O21: 1
A22: 佳·养神丹 | B22: 辅助 | C22: 1 | D22: 20 | E22: 元气+46 | F22: =F21*3+材料价格!N25*3+材料价格!N31+材料价格!B8 -> 4 | H22: =G22-F22 -> -4 | I22: =ROUND(H22/97,1) -> 0 | J22: 养神丹 | K22: 3 | L22: 岫山玉 | M22: 3 | N22: 月光石 | O22: 1 | P22: 药料 | Q22: 1
A23: 补心丹 | B23: 辅助 | C23: 1 | D23: 15 | E23: 根骨+41 | F23: =材料价格!B35*15+材料价格!B37+材料价格!B8 -> 1 | H23: =G23-F23 -> -1 | I23: =ROUND(H23/97,1) -> 0 | J23: 紫苏 | K23: 15 | L23: 黄精 | M23: 1 | N23: 药料 | O23: 1
A24: 佳·补心丹 | B24: 辅助 | C24: 1 | D24: 20 | E24: 根骨+46 | F24: =F23*3+材料价格!N27*3+材料价格!N29+材料价格!B8 -> 4 | H24: =G24-F24 -> -4 | I24: =ROUND(H24/97,1) -> 0 | J24: 补心丹 | K24: 3 | L24: 金沙石 | M24: 3 | N24: 突厥玉 | O24: 1 | P24: 药料 | Q24: 1
A25: 点骨丹 | B25: 辅助 | C25: 1 | D25: 15 | E25: 力道+41 | F25: =材料价格!B34*15+材料价格!B37+材料价格!B8 -> 1 | H25: =G25-F25 -> -1 | I25: =ROUND(H25/97,1) -> 0 | J25: 白术 | K25: 15 | L25: 黄精 | M25: 1 | N25: 药料 | O25: 1
A26: 佳·点骨丹 | B26: 辅助 | C26: 1 | D26: 20 | E26: 力道+46 | F26: =F25*3+材料价格!N28*3+材料价格!N30+材料价格!B8 -> 4 | H26: =G26-F26 -> -4 | I26: =ROUND(H26/97,1) -> 0 | J26: 点骨丹 | K26: 3 | L26: 枷罗木 | M26: 3 | N26: 沧海珠 | O26: 1 | P26: 药料 | Q26: 1
A27: 轻身丹 | B27: 辅助 | C27: 1 | D27: 15 | E27: 身法+41 | F27: =材料价格!B34*15+材料价格!B37+材料价格!B8 -> 1 | H27: =G27-F27 -> -1 | I27: =ROUND(H27/97,1) -> 0 | J27: 白术 | K27: 15 | L27: 黄精 | M27: 1 | N27: 药料 | O27: 1
A28: 佳·轻身丹 | B28: 辅助 | C28: 1 | D28: 20 | E28: 身法+46 | F28: =F27*3+材料价格!N26*3+材料价格!N32+材料价格!B8 -> 4 | H28: =G28-F28 -> -4 | I28: =ROUND(H28/97,1) -> 0 | J28: 轻身丹 | K28: 3 | L28: 南红珠 | M28: 3 | N28: 娑罗木 | O28: 1 | P28: 药料 | Q28: 1
A29: 护命丹 | B29: 辅助 | C29: 1 | D29: 15 | E29: 体质+56 | F29: =材料价格!B34*15+材料价格!B37+材料价格!B8 -> 1 | H29: =G29-F29 -> -1 | I29: =ROUND(H29/97,1) -> 0 | J29: 白术 | K29: 15 | L29: 黄精 | M29: 1 | N29: 药料 | O29: 1
A30: 佳·护命丹 | B30: 辅助 | C30: 1 | D30: 20 | E30: 体质+62 | F30: =F29*3+材料价格!N27*3+材料价格!N29+材料价格!B8 -> 4 | H30: =G30-F30 -> -4 | I30: =ROUND(H30/97,1) -> 0 | J30: 护命丹 | K30: 3 | L30: 金沙石 | M30: 3 | N30: 突厥玉 | O30: 1 | P30: 药料 | Q30: 1
A31: 玉蟾丹 | B31: 回复 | C31: 1 | D31: 15 | E31: 回血5000 | F31: =材料价格!B34*15+材料价格!B37+材料价格!B8 -> 1 | H31: =G31-F31 -> -1 | I31: =ROUND(H31/97,1) -> 0 | J31: 白术 | K31: 15 | L31: 黄精 | M31: 1 | N31: 药料 | O31: 1
A32: 佳·玉蟾丹 | B32: 回复 | C32: 1 | D32: 20 | E32: 回血5500 | F32: =F31*3+材料价格!N25*3+材料价格!N31+材料价格!B8 -> 4 | H32: =G32-F32 -> -4 | I32: =ROUND(H32/97,1) -> 0 | J32: 玉蟾丹 | K32: 3 | L32: 岫山玉 | M32: 3 | N32: 月光石 | O32: 1 | P32: 药料 | Q32: 1
A33: 玉华丹 | B33: 回复 | C33: 1 | D33: 15 | E33: 回蓝7000 | F33: =材料价格!B35*15+材料价格!B37+材料价格!B8 -> 1 | H33: =G33-F33 -> -1 | I33: =ROUND(H33/97,1) -> 0 | J33: 紫苏 | K33: 15 | L33: 黄精 | M33: 1 | N33: 药料 | O33: 1
A34: 佳·玉华丹 | B34: 回复 | C34: 1 | D34: 20 | E34: 回蓝9000 | F34: =F33*3+材料价格!N26*3+材料价格!N32+材料价格!B8 -> 4 | H34: =G34-F34 -> -4 | I34: =ROUND(H34/97,1) -> 0 | J34: 玉华丹 | K34: 3 | L34: 南红珠 | M34: 3 | N34: 娑罗木 | O34: 1 | P34: 药料 | Q34: 1
A35: 金刚散 | B35: 材料 | C35: 1 | D35: 15 | F35: =材料价格!B18*5+材料价格!B14*5+材料价格!B13*5+材料价格!B17*5+材料价格!B9 -> 2 | H35: =G35-F35 -> -2 | I35: =ROUND(H35/97,1) -> 0 | J35: 金创小草 | K35: 5 | L35: 天名精 | M35: 5 | N35: 车前草 | O35: 5 | P35: 金银花 | Q35: 5 | R35: 药用黄丹 | S35: 1
A36: 蜀元露 | B36: 材料 | C36: 1 | D36: 21 | F36: =材料价格!B27*4+材料价格!B25*4+材料价格!B26*4+材料价格!B36*4 -> 0 | H36: =G36-F36 -> 0 | I36: =ROUND(H36/97,1) -> 0 | J36: 麦冬 | K36: 4 | L36: 川贝 | M36: 4 | N36: 虫草 | O36: 4 | P36: 露水 | Q36: 4
A37: 碧闺药花 | B37: 材料 | C37: 5 | D37: 81 | F37: =(材料价格!B32*20+材料价格!B33*20+材料价格!N6)/5 -> 0 | H37: =G37-F37 -> 0 | I37: =ROUND(H37/97,1) -> 0 | J37: 彼岸花 | K37: 20 | L37: 石莲花 | M37: 20 | N37: 碧玺碎片 | O37: 1
A38: 截元丹 | B38: 特殊 | C38: 1 | D38: 61 | E38: 延迟目标复活5分钟 | F38: =材料价格!B29*3+材料价格!B21*3+材料价格!Q4+材料价格!Q5+材料价格!B8 -> 1 | H38: =G38-F38 -> -1 | I38: =ROUND(H38/97,1) -> 0 | J38: 茯苓 | K38: 3 | L38: 田七 | M38: 3 | N38: 谷帘泉 | O38: 1 | P38: 趵突泉 | Q38: 1 | R38: 药料 | S38: 1
A39: 飞鱼丸 | B39: 特殊 | C39: 1 | D39: 25 | E39: 游泳速度提高50 | F39: =材料价格!B20*3+材料价格!B10*2+材料价格!B4 -> 0.0015 | H39: =G39-F39 -> -0.0015 | I39: =ROUND(H39/97,1) -> 0 | J39: 千里香 | K39: 3 | L39: 芍药 | M39: 2 | N39: 药罐 | O39: 2
A40: 健胃散 | B40: 特殊 | C40: 1 | D40: 43 | E40: 卸除自身饱食状态 | F40: =材料价格!B30*2+材料价格!B28*2+材料价格!B31*2+材料价格!B5 -> 0.0025 | H40: =G40-F40 -> -0.0025 | I40: =ROUND(H40/97,1) -> 0 | J40: 藿香 | K40: 2 | L40: 半夏 | M40: 2 | N40: 菟丝子 | O40: 2 | P40: 药囊 | Q40: 1
...

Sheet 精体性价比
A1: 类别 | B1: 固定数据无需修改 | E1: 此栏请 自行填写 | F1: 表格自动生成
B2: 名称 | C2: 回复精力 | D2: 回复体力 | E2: 单价 | F2: 精力性价比 | G2: 体力性价比 | H2: 组价格
A3: 精力 | B3: 佳·箸头春 | C3: 61 | F3: =E3/C3 -> 0 | H3: =E3*20 -> 0
B4: 佳·回元餐 | C4: 30 | F4: =E4/C4 -> 0 | H4: =E4*20 -> 0
B5: 剁椒肉爪 | C5: 24 | F5: =E5/C5 -> 0 | H5: =E5*20 -> 0
B6: 好逑汤 | C6: 22 | F6: =E6/C6 -> 0 | H6: =E6*20 -> 0
B7: 麻辣血肠 | C7: 20 | F7: =E7/C7 -> 0 | H7: =E7*20 -> 0
B8: 麻辣毛血旺 | C8: 23 | F8: =E8/C8 -> 0 | H8: =E8*20 -> 0
B9: 毛血旺 | C9: 18 | F9: =E9/C9 -> 0 | H9: =E9*20 -> 0
B10: 把子肉 | C10: 13 | F10: =E10/C10 -> 0 | H10: =E10*20 -> 0
B11: 车前草腰子汤 | C11: 9 | F11: =E11/C11 -> 0 | H11: =E11*20 -> 0
B12: 馄饨 | C12: 5 | F12: =E12/C12 -> 0 | H12: =E12*20 -> 0
B13: 大刀面 | C13: 5 | F13: =E13/C13 -> 0 | H13: =E13*20 -> 0
B14: 生肉藕夹 | C14: 5 | F14: =E14/C14 -> 0 | H14: =E14*20 -> 0
B15: 甘草蘑菇茶 | C15: 5 | F15: =E15/C15 -> 0 | H15: =E15*20 -> 0
... B18: 麻食泡 | C18: 4 | F18: =E18/C18 -> 0 | H18: =E18*20 -> 0
A20: 体力 | B20: 佳·唐安啖 | D20: 61 | G20: =E20/D20 -> 0 | H20: =E20*20 -> 0
B21: 佳·转神餐 | D21: 32 | G21: =E21/D21 -> 0 | H21: =E21*20 -> 0
B22: 椒麻口条 | D22: 28 | G22: =E22/D22 -> 0 | H22: =E22*20 -> 0
B23: 银丝卷 | D23: 24 | G23: =E23/D23 -> 0 | H23: =E23*20 -> 0
B24: 白肉血肠 | D24: 22 | G24: =E24/D24 -> 0 | H24: =E24*20 -> 0
B25: 冬瓜排骨汤 | D25: 21 | G25: =E25/D25 -> 0 | H25: =E25*20 -> 0
B26: 蒜泥白肉 | D26: 15 | G26: =E26/D26 -> 0 | H26: =E26*20 -> 0
B27: 玉麟香腰 | D27: 10 | G27: =E27/D27 -> 0 | H27: =E27*20 -> 0
B28: 贡丸汤 | D28: 7 | G28: =E28/D28 -> 0 | H28: =E28*20 -> 0
B29: 灌汤包子 | D29: 7 | G29: =E29/D29 -> 0 | H29: =E29*20 -> 0
B30: 岐山面 | D30: 7 | G30: =E30/D30 -> 0 | H30: =E30*20 -> 0
B31: 翡翠烧麦 | D31: 7 | G31: =E31/D31 -> 0 | H31: =E31*20 -> 0
B32: 慈菇菜包 | D32: 7 | G32: =E32/D32 -> 0 | H32: =E32*20 -> 0
B33: 不够劲道的岐山面 | D33: 6 | G33: =E33/D33 -> 0 | H33: =E33*20 -> 0
A35: 精力 & 体力 | B35: 佛跳墙 | C35: 16 | D35: 18 | F35: =(C35/(C35+D35)*E35)/C35 -> 0 | G35: =(D35/(C35+D35)*E35)/D35 -> 0 | H35: =E35*20 -> 0
B36: 血丸子 | C36: 10 | D36: 12 | F36: =(C36/(C36+D36)*E36)/C36 -> 0 | G36: =(D36/(C36+D36)*E36)/D36 -> 0 | H36: =E36*20 -> 0
B37: 和合腰子 | C37: 10 | D37: 12 | F37: =(C37/(C37+D37)*E37)/C37 -> 0 | G37: =(D37/(C37+D37)*E37)/D37 -> 0 | H37: =E37*20 -> 0
B38: 御制麻辣血肠 | C38: 12 | D38: 13 | F38: =(C38/(C38+D38)*E38)/C38 -> 0 | G38: =(D38/(C38+D38)*E38)/D38 -> 0 | H38: =E38*20 -> 0
B39: 枸杞瘦肉 | C39: 8 | D39: 8 | F39: =(C39/(C39+D39)*E39)/C39 -> 0 | G39: =(D39/(C39+D39)*E39)/D39 -> 0 | H39: =E39*20 -> 0
A41: 缝纫制品 | B41: 缝纫制品 | C41: 消耗精力 | D41: 增加好感度 | E41: 单价 | F41: 性价比 | H41: 组价格
B42: 绣花香包 | C42: 9 | D42: 6 | F42: =E42/D42 -> 0 | H42: =E42*2 -> 0
B43: 彩锦香包 | C43: 15 | D43: 8 | F43: =E43/D43 -> 0 | H43: =E43*2 -> 0
B44: 绫罗绣球 | C44: 21 | D44: 12 | F44: =E44/D44 -> 0 | H44: =E44*2 -> 0
B45: 丹青染布画 | C45: 7 | D45: 14 | F45: =E45/D45 -> 0 | H45: =E45*2 -> 0
...
